BEGIN:VCALENDAR
VERSION:2.0
PRODID:-// - ECPv6.15.20//NONSGML v1.0//EN
CALSCALE:GREGORIAN
METHOD:PUBLISH
X-ORIGINAL-URL:https://edelweiss-pathfinders.club/ru
X-WR-CALDESC:Мероприятия для 
REFRESH-INTERVAL;VALUE=DURATION:PT1H
X-Robots-Tag:noindex
X-PUBLISHED-TTL:PT1H
BEGIN:VTIMEZONE
TZID:Europe/Berlin
BEGIN:DAYLIGHT
TZOFFSETFROM:+0100
TZOFFSETTO:+0200
TZNAME:CEST
DTSTART:20240331T010000
END:DAYLIGHT
BEGIN:STANDARD
TZOFFSETFROM:+0200
TZOFFSETTO:+0100
TZNAME:CET
DTSTART:20241027T010000
END:STANDARD
BEGIN:DAYLIGHT
TZOFFSETFROM:+0100
TZOFFSETTO:+0200
TZNAME:CEST
DTSTART:20250330T010000
END:DAYLIGHT
BEGIN:STANDARD
TZOFFSETFROM:+0200
TZOFFSETTO:+0100
TZNAME:CET
DTSTART:20251026T010000
END:STANDARD
BEGIN:DAYLIGHT
TZOFFSETFROM:+0100
TZOFFSETTO:+0200
TZNAME:CEST
DTSTART:20260329T010000
END:DAYLIGHT
BEGIN:STANDARD
TZOFFSETFROM:+0200
TZOFFSETTO:+0100
TZNAME:CET
DTSTART:20261025T010000
END:STANDARD
END:VTIMEZONE
BEGIN:VEVENT
DTSTART;TZID=Europe/Berlin:20251121T170000
DTEND;TZID=Europe/Berlin:20251123T190000
DTSTAMP:20260420T190207
CREATED:20251121T032322Z
LAST-MODIFIED:20251121T032322Z
UID:191-1763744400-1763924400@edelweiss-pathfinders.club
SUMMARY:СВИДЕТЕЛЬСТВО ВЕКОВ : Алексей Опарин
DESCRIPTION:  \n \nСвидетельства веков:археология в подтверждение Писания\n📅 21 ноября – 23 ноября🕔 в 17:00 \nТема 1 — 21.11.2025 в 17:00\nВавилон: город храмов\, оккультизма и мафии \nТема 2 — 22.11.2025 в 17:00\nНиневия: город крови и львов \nТема 3 — 23.11.2025 в 17:00\nПетра: город камней и скал \nДуховный центрAm Dr.-Güldenapfel-Ring 8\,Simbach am Inn \n\nАлексей Опарин \nДоктор медицинских наук\, профессор\, президент Украинской Академии Истории Медицины\, заведующий кафедрой терапии и ревматологии Харьковской медицинской академии последипломного образования\, главный редактор двух международных журналов — «Восточноевропейского журнала внутренней и семейной медицины» (входит в перечень изданий\, утверждённых МОН Украины) и «Обзор мировых вопросов». Председатель правления «Общества истории медицины» Харьковского медицинского общества. Автор 273 научных статей\, 57 монографий по медицине и истории Древнего Востока и библейской археологии\, 27 патентов\, 32 учебных пособий и методических рекомендаций\, а также двух учебников\, изданных в Праге.
URL:https://edelweiss-pathfinders.club/ru/event/svidetelstvo-vekov-aleksej-oparin/
LOCATION:Духовный центр Asd\, Am Dr.-Güldenapfel-Ring 8\, Simbach am Inn\, Bayern\, 84359\, Germany
END:VEVENT
END:VCALENDAR