BEGIN:VCALENDAR
VERSION:2.0
PRODID:-// - ECPv6.15.20//NONSGML v1.0//EN
CALSCALE:GREGORIAN
METHOD:PUBLISH
X-ORIGINAL-URL:https://edelweiss-pathfinders.club/ru
X-WR-CALDESC:Мероприятия для 
REFRESH-INTERVAL;VALUE=DURATION:PT1H
X-Robots-Tag:noindex
X-PUBLISHED-TTL:PT1H
BEGIN:VTIMEZONE
TZID:Europe/Berlin
BEGIN:DAYLIGHT
TZOFFSETFROM:+0100
TZOFFSETTO:+0200
TZNAME:CEST
DTSTART:20240331T010000
END:DAYLIGHT
BEGIN:STANDARD
TZOFFSETFROM:+0200
TZOFFSETTO:+0100
TZNAME:CET
DTSTART:20241027T010000
END:STANDARD
BEGIN:DAYLIGHT
TZOFFSETFROM:+0100
TZOFFSETTO:+0200
TZNAME:CEST
DTSTART:20250330T010000
END:DAYLIGHT
BEGIN:STANDARD
TZOFFSETFROM:+0200
TZOFFSETTO:+0100
TZNAME:CET
DTSTART:20251026T010000
END:STANDARD
BEGIN:DAYLIGHT
TZOFFSETFROM:+0100
TZOFFSETTO:+0200
TZNAME:CEST
DTSTART:20260329T010000
END:DAYLIGHT
BEGIN:STANDARD
TZOFFSETFROM:+0200
TZOFFSETTO:+0100
TZNAME:CET
DTSTART:20261025T010000
END:STANDARD
END:VTIMEZONE
BEGIN:VEVENT
DTSTART;TZID=Europe/Berlin:20251220T180000
DTEND;TZID=Europe/Berlin:20251220T200000
DTSTAMP:20260420T173015
CREATED:20251211T140142Z
LAST-MODIFIED:20251211T141329Z
UID:214-1766253600-1766260800@edelweiss-pathfinders.club
SUMMARY:РОЖДЕСТВЕНСКОЕ ПРЕДСТАВЛЕНИЕ
DESCRIPTION:🌟 Чудо Рождества в Зимбахе: Приглашаем на праздничное представление!\nДата: 20 ДЕКАБРЯ | Время: 18:00 | Место: Духовный Центр АСД \nУже по сложившейся доброй традиции\, община Simbach-Braunau приглашает гостей на ежегодное Рождественское представление! \nМы рады пригласить семьи\, родителей и\, конечно же\, наших самых маленьких зрителей провести этот замечательный вечер вместе\, погрузившись в атмосферу света\, надежды и настоящего чуда. \n✨ Главный смысл Рождества\nКаждый год наша молодёжный клуб «ЭДЕЛЬВЕЙС» готовит особую\, большую программу. В этом году мы сосредоточили все усилия на том\, чтобы раскрыть истинный\, глубокий смысл Рождества\, который часто теряется в праздничной суете. \nВас ждёт программа\, наполненная красотой и духовным содержанием: \n🎭 Большой Спектакль: Кульминацией вечера станет масштабная театральная постановка\, которая в яркой и трогательной форме расскажет о событиях\, изменивших мир. \n🎶 Праздничный Хор: Насладитесь торжественным и вдохновляющим пением нашего хора. \n🎵 Музыкальные Исполнения: Профессиональные музыкальные номера\, которые помогут создать по-настоящему праздничное настроение. \n🎁 Подарки: Ни один гость\, особенно ребёнок\, не уйдёт без приятного рождественского подарка! \n📍 Где и когда?\nМы ждём вас: \n🗓️ Дата: Пятница\, 20 ДЕКАБРЯ \n⏰ Время начала: 18:00 \n🏛️ Место: Духовный Центр АСД \nЭто прекрасная возможность провести время с семьёй\, отвлечься от повседневных забот и вместе прикоснуться к светлому чуду Рождества. \nЖдём вас! Вход свободный.
URL:https://edelweiss-pathfinders.club/ru/event/rozhdestvenskoe-predstavlenie/
LOCATION:Духовный центр Asd Simbach-Braunau\, Am Dr.-Güldenapfel-Ring 8\, Simbach am Inn\, Bayern\, 84359\, Germany
END:VEVENT
BEGIN:VEVENT
DTSTART;TZID=Europe/Berlin:20251227T170000
DTEND;TZID=Europe/Berlin:20251227T193000
DTSTAMP:20260420T173015
CREATED:20251211T153133Z
LAST-MODIFIED:20251211T154053Z
UID:227-1766854800-1766863800@edelweiss-pathfinders.club
SUMMARY:СЛЕДОПЫТСКАЯ МОЛОДЕЖНАЯ ПРОГРАММА
DESCRIPTION:🏔️ Итоги Года: Молодежная Следопытская Программа Клуба «Эдельвейс»!\n📢 Приглашаем на Большой Вечер Отчетов и Вдохновения!\nПрисоединяйтесь к следопытам клуба «Эдельвейс» для торжественного подведения итогов уходящего года! Мы хотим поделиться своими самыми яркими моментами\, достижениями и уроками\, которые мы получили за этот невероятный год. \n🗓️ Когда и Где?\n\n\n\nДеталь\nИнформация\n\n\n\n\nДата\n27 декабря 2025 года\n\n\nВремя\n17:00 (Начало ровно в 5 вечера)\n\n\nМесто\nДуховный центр АСД\n\n\nВход\nСвободный\n\n\n\n✨ В Программе Вечера:\nКлуб «Эдельвейс» подготовил насыщенный и вдохновляющий вечер: \n🎬 Презентация Главных Событий Года: Мы покажем яркие фото и видеоотчеты о всех мероприятиях\, которые мы провели в этом году. Увидим\, как это было! \n🏔️ Год\, Полный Приключений: Следопыты расскажут о своем опыте: \n\nПоходы в горы и жизнь в палатках.\nПроведение лагерей и обучающих программ.\nЭкскурсии и путешествия по новым местам. 🎤 Проповедь от Гостя: Специальный спикер программы — Петр Мирный — поделится вдохновляющей проповедью\, которая поможет подготовиться к новому году.\n\n\n🌟 Этот вечер — это не просто отчет\, а свидетельство активной жизни и служения молодежи! Приходите увидеть\, как многого можно достичь вместе. \n\n🚀 Мы Ждем Каждого!\nПриглашаем всю молодежь на это замечательное событие! Это отличная возможность узнать о деятельности клуба\, найти новых друзей и получить духовное ободрение. \nНе пропустите главный молодежный вечер года! \n\n 
URL:https://edelweiss-pathfinders.club/ru/event/sledopytskaya-molodezhnaya-programma/
LOCATION:Духовный центр Asd Simbach-Braunau\, Am Dr.-Güldenapfel-Ring 8\, Simbach am Inn\, Bayern\, 84359\, Germany
END:VEVENT
END:VCALENDAR